BEGIN:VCALENDAR
VERSION:2.0
PRODID:-//Contratero//ES
CALSCALE:GREGORIAN
METHOD:PUBLISH
BEGIN:VEVENT
UID:2025 00000047@contratero.es
DTSTAMP:20260422T155632Z
DTSTART:20251001T235959
DTEND:20251002T005959
SUMMARY:Cierre: Mantenimiento de las licencias de productos Bentle
DESCRIPTION:Mantenimiento de las licencias de productos Bentley para el Organismo Autónomo Centro Nacional de Información Geográfica\\n\\nOrganismo: Centro Nacional de Información Geográfica\\n\\nVer en Contratero: https://contratero.es/contracts/2025 00000047
URL:https://contratero.es/contracts/2025 00000047
STATUS:CONFIRMED
BEGIN:VALARM
TRIGGER:-P1D
ACTION:DISPLAY
DESCRIPTION:Recordatorio: Mantenimiento de las licencias
END:VALARM
END:VEVENT
END:VCALENDAR